BEGIN:VCALENDAR
VERSION:2.0
PRODID:-//time.now/holidays//NONSGML v1.0//EN
BEGIN:VEVENT
UID:d653fcad-8a09-4e79-9be0-a9b911830ed0
DTSTAMP:20260420T192533Z
DTSTART;VALUE=DATE:20270309
SUMMARY:Eid al-Fitr (estimated) (Irán)
END:VEVENT
END:VCALENDAR