BEGIN:VCALENDAR
VERSION:2.0
PRODID:-//time.now/holidays//NONSGML v1.0//EN
BEGIN:VEVENT
UID:c8ba652a-4f97-4fae-ba50-d6d79c8920cb
DTSTAMP:20260422T193628Z
DTSTART;VALUE=DATE:20270604
SUMMARY:Death of Imam Khomeini (Irán)
END:VEVENT
END:VCALENDAR