BEGIN:VCALENDAR
VERSION:2.0
PRODID:-//time.now/holidays//NONSGML v1.0//EN
BEGIN:VEVENT
UID:62a4b901-0838-4dbf-905a-b9d2a5e93375
DTSTAMP:20260422T174406Z
DTSTART;VALUE=DATE:20250214
SUMMARY:Birthday of Mahdi (Irán)
END:VEVENT
END:VCALENDAR