BEGIN:VCALENDAR
VERSION:2.0
PRODID:-//time.now/holidays//NONSGML v1.0//EN
BEGIN:VEVENT
UID:1dcca92e-ef29-427a-9e65-b34b9c6fc95e
DTSTAMP:20260423T014315Z
DTSTART;VALUE=DATE:20250114
SUMMARY:Birthday of Imam Ali (Irán)
END:VEVENT
END:VCALENDAR