BEGIN:VCALENDAR
VERSION:2.0
PRODID:-//time.now/holidays//NONSGML v1.0//EN
BEGIN:VEVENT
UID:618ecb9e-acbe-4efb-b8af-17f4d7c6770b
DTSTAMP:20260422T105121Z
DTSTART;VALUE=DATE:20280603
SUMMARY:Ashura (estimated); Death of Imam Khomeini (Irán)
END:VEVENT
END:VCALENDAR