BEGIN:VCALENDAR
VERSION:2.0
PRODID:-//time.now/holidays//NONSGML v1.0//EN
BEGIN:VEVENT
UID:7ba116a9-1ff5-4a59-a919-615d15c921bd
DTSTAMP:20260420T114527Z
DTSTART;VALUE=DATE:20250512
SUMMARY:Vesak Day (Indonesia)
END:VEVENT
END:VCALENDAR