BEGIN:VCALENDAR
VERSION:2.0
PRODID:-//time.now/holidays//NONSGML v1.0//EN
BEGIN:VEVENT
UID:e34fe4f8-9f42-4050-aa3f-31872f3e25f0
DTSTAMP:20260420T190432Z
DTSTART;VALUE=DATE:20260616
SUMMARY:Islamic New Year (estimated) (Indonesia)
END:VEVENT
END:VCALENDAR