BEGIN:VCALENDAR
VERSION:2.0
PRODID:-//time.now/holidays//NONSGML v1.0//EN
BEGIN:VEVENT
UID:8a1cb42a-4091-429e-a94c-fd0852149700
DTSTAMP:20260420T142203Z
DTSTART;VALUE=DATE:20240214
SUMMARY:General Election Day (Indonesia)
END:VEVENT
END:VCALENDAR