BEGIN:VCALENDAR
VERSION:2.0
PRODID:-//time.now/holidays//NONSGML v1.0//EN
BEGIN:VEVENT
UID:a7cbdb2b-1f4d-45ab-b960-0306bc459e93
DTSTAMP:20260422T193225Z
DTSTART;VALUE=DATE:20260320
SUMMARY:Eid al-Fitr (estimated) (Indonesia)
END:VEVENT
END:VCALENDAR