BEGIN:VCALENDAR
VERSION:2.0
PRODID:-//time.now/holidays//NONSGML v1.0//EN
BEGIN:VEVENT
UID:22e66db3-0544-4f5e-9f8b-a2b0323c6fba
DTSTAMP:20260420T043725Z
DTSTART;VALUE=DATE:20260405
SUMMARY:Easter Sunday (Indonesia)
END:VEVENT
END:VCALENDAR