BEGIN:VCALENDAR
VERSION:2.0
PRODID:-//time.now/holidays//NONSGML v1.0//EN
BEGIN:VEVENT
UID:32c6414f-2553-43bd-b0bf-8ab709037c0c
DTSTAMP:20260422T084436Z
DTSTART;VALUE=DATE:20260319
SUMMARY:Day of Silence (Indonesia)
END:VEVENT
END:VCALENDAR