BEGIN:VCALENDAR
VERSION:2.0
PRODID:-//time.now/holidays//NONSGML v1.0//EN
BEGIN:VEVENT
UID:dc3ca3e4-4751-4b8f-905e-8c6a3d97aaf2
DTSTAMP:20260422T092445Z
DTSTART;VALUE=DATE:20280525
SUMMARY:Ascension Day; Islamic New Year (estimated) (Indonesia)
END:VEVENT
END:VCALENDAR