BEGIN:VCALENDAR
VERSION:2.0
PRODID:-//time.now/holidays//NONSGML v1.0//EN
BEGIN:VEVENT
UID:881b7fc6-455d-4445-b18f-9c0608c8646e
DTSTAMP:20260420T060228Z
DTSTART;VALUE=DATE:20260124
SUMMARY:UP Formation Day (India)
END:VEVENT
END:VCALENDAR