BEGIN:VCALENDAR
VERSION:2.0
PRODID:-//time.now/holidays//NONSGML v1.0//EN
BEGIN:VEVENT
UID:c0fbd3b9-257b-4184-b113-8ccba32846bb
DTSTAMP:20260422T091937Z
DTSTART;VALUE=DATE:20260115
SUMMARY:Thiruvalluvar Day / Mattu Pongal (India)
END:VEVENT
END:VCALENDAR