BEGIN:VCALENDAR
VERSION:2.0
PRODID:-//time.now/holidays//NONSGML v1.0//EN
BEGIN:VEVENT
UID:5d1e2949-a5d8-4350-a5c2-05b7422c6cad
DTSTAMP:20260420T032714Z
DTSTART;VALUE=DATE:20260126
SUMMARY:Republic Day (India)
END:VEVENT
END:VCALENDAR