BEGIN:VCALENDAR
VERSION:2.0
PRODID:-//time.now/holidays//NONSGML v1.0//EN
BEGIN:VEVENT
UID:119a1308-3c21-41c7-bac4-453e1751d536
DTSTAMP:20260420T080116Z
DTSTART;VALUE=DATE:20260330
SUMMARY:Rajasthan Day (India)
END:VEVENT
END:VCALENDAR