BEGIN:VCALENDAR
VERSION:2.0
PRODID:-//time.now/holidays//NONSGML v1.0//EN
BEGIN:VEVENT
UID:59aae14d-bd8c-417f-ab97-10f21e1396d8
DTSTAMP:20260420T194003Z
DTSTART;VALUE=DATE:20261101
SUMMARY:Puducherry Liberation Day (India)
END:VEVENT
END:VCALENDAR