BEGIN:VCALENDAR
VERSION:2.0
PRODID:-//time.now/holidays//NONSGML v1.0//EN
BEGIN:VEVENT
UID:ae686cf7-8be0-48d9-aece-124514e75cd7
DTSTAMP:20260420T170618Z
DTSTART;VALUE=DATE:20260825
SUMMARY:Prophet's Birthday (estimated) (India)
END:VEVENT
END:VCALENDAR