BEGIN:VCALENDAR
VERSION:2.0
PRODID:-//time.now/holidays//NONSGML v1.0//EN
BEGIN:VEVENT
UID:6c54f37f-e108-473d-a0e1-c1beaabc3462
DTSTAMP:20260420T050951Z
DTSTART;VALUE=DATE:20260114
SUMMARY:Pongal (India)
END:VEVENT
END:VCALENDAR