BEGIN:VCALENDAR
VERSION:2.0
PRODID:-//time.now/holidays//NONSGML v1.0//EN
BEGIN:VEVENT
UID:3b8222c4-42d5-4d69-9e7c-165373372c50
DTSTAMP:20260420T162132Z
DTSTART;VALUE=DATE:20260331
SUMMARY:Mahavir Jayanti (India)
END:VEVENT
END:VCALENDAR