BEGIN:VCALENDAR
VERSION:2.0
PRODID:-//time.now/holidays//NONSGML v1.0//EN
BEGIN:VEVENT
UID:f41768c5-551a-4d5b-8558-06e539df40b9
DTSTAMP:20260420T151845Z
DTSTART;VALUE=DATE:20250331
SUMMARY:Eid al-Fitr (India)
END:VEVENT
END:VCALENDAR