BEGIN:VCALENDAR
VERSION:2.0
PRODID:-//time.now/holidays//NONSGML v1.0//EN
BEGIN:VEVENT
UID:4dd6248c-c610-42d3-9cd4-134a58b55ca9
DTSTAMP:20260422T084118Z
DTSTART;VALUE=DATE:20280414
SUMMARY:Dr. B. R. Ambedkar's Jayanti; Good Friday (India)
END:VEVENT
END:VCALENDAR