BEGIN:VCALENDAR
VERSION:2.0
PRODID:-//time.now/holidays//NONSGML v1.0//EN
BEGIN:VEVENT
UID:5952ebb2-b65c-452b-915d-ba08acf97c52
DTSTAMP:20260422T105121Z
DTSTART;VALUE=DATE:20280414
SUMMARY:Dr. B. R. Ambedkar's Jayanti; Good Friday; Puthandu (Tamil New Year) (India)
END:VEVENT
END:VCALENDAR