BEGIN:VCALENDAR
VERSION:2.0
PRODID:-//time.now/holidays//NONSGML v1.0//EN
BEGIN:VEVENT
UID:f11aacda-3ea4-46c5-9c34-6ba0246ef777
DTSTAMP:20260422T103922Z
DTSTART;VALUE=DATE:20241031
SUMMARY:Diwali; Sardar Vallabhbhai Patel Jayanti (India)
END:VEVENT
END:VCALENDAR