BEGIN:VCALENDAR
VERSION:2.0
PRODID:-//time.now/holidays//NONSGML v1.0//EN
BEGIN:VEVENT
UID:8c0e0b5f-ebea-43b2-924b-03d0b181b67e
DTSTAMP:20260422T084031Z
DTSTART;VALUE=DATE:20261115
SUMMARY:Chhath Puja; Jharkhand Formation Day (India)
END:VEVENT
END:VCALENDAR