BEGIN:VCALENDAR
VERSION:2.0
PRODID:-//time.now/holidays//NONSGML v1.0//EN
BEGIN:VEVENT
UID:ef2eb85d-3548-4666-9699-80cadc53a11c
DTSTAMP:20260420T034829Z
DTSTART;VALUE=DATE:20260405
SUMMARY:Easter Sunday (Islandia)
END:VEVENT
END:VCALENDAR