BEGIN:VCALENDAR
VERSION:2.0
PRODID:-//time.now/holidays//NONSGML v1.0//EN
BEGIN:VEVENT
UID:438eb5c3-0f66-4b94-9ad5-11339fd42a58
DTSTAMP:20260420T053446Z
DTSTART;VALUE=DATE:20261225
SUMMARY:Christmas Day (Islandia)
END:VEVENT
END:VCALENDAR