BEGIN:VCALENDAR
VERSION:2.0
PRODID:-//time.now/holidays//NONSGML v1.0//EN
BEGIN:VEVENT
UID:650c285c-e7f3-42f7-8bf4-60ec2eefa957
DTSTAMP:20260420T122504Z
DTSTART;VALUE=DATE:20260514
SUMMARY:Ascension Day (Islandia)
END:VEVENT
END:VCALENDAR