BEGIN:VCALENDAR
VERSION:2.0
PRODID:-//time.now/holidays//NONSGML v1.0//EN
BEGIN:VEVENT
UID:96b50912-366f-4d4d-9f32-26edb9167fcc
DTSTAMP:20260420T090446Z
DTSTART;VALUE=DATE:20260524
SUMMARY:Whit Sunday (Hungría)
END:VEVENT
END:VCALENDAR