BEGIN:VCALENDAR
VERSION:2.0
PRODID:-//time.now/holidays//NONSGML v1.0//EN
BEGIN:VEVENT
UID:d5fd0f19-2b3a-424d-8432-f4d043e13259
DTSTAMP:20260419T231853Z
DTSTART;VALUE=DATE:20260406
SUMMARY:Easter Monday (Hungría)
END:VEVENT
END:VCALENDAR