BEGIN:VCALENDAR
VERSION:2.0
PRODID:-//time.now/holidays//NONSGML v1.0//EN
BEGIN:VEVENT
UID:5198d356-c66e-4beb-8d9c-048d802c53d1
DTSTAMP:20260420T161825Z
DTSTART;VALUE=DATE:20251024
SUMMARY:Day off (substituted from 10/18/2025) (Hungría)
END:VEVENT
END:VCALENDAR