BEGIN:VCALENDAR
VERSION:2.0
PRODID:-//time.now/holidays//NONSGML v1.0//EN
BEGIN:VEVENT
UID:534d1f77-f724-4aed-a402-04cb97e7eda9
DTSTAMP:20260420T204628Z
DTSTART;VALUE=DATE:20260821
SUMMARY:Day off (substituted from 08/08/2026) (Hungría)
END:VEVENT
END:VCALENDAR