BEGIN:VCALENDAR
VERSION:2.0
PRODID:-//time.now/holidays//NONSGML v1.0//EN
BEGIN:VEVENT
UID:b737128a-02ca-44d9-a8e6-6757089cd9a3
DTSTAMP:20260420T201138Z
DTSTART;VALUE=DATE:20260102
SUMMARY:Day off (substituted from 01/10/2026) (Hungría)
END:VEVENT
END:VCALENDAR