BEGIN:VCALENDAR
VERSION:2.0
PRODID:-//time.now/holidays//NONSGML v1.0//EN
BEGIN:VEVENT
UID:17c14a0e-e122-4f85-aae1-af0ab8ed9a4b
DTSTAMP:20260420T131041Z
DTSTART;VALUE=DATE:20261225
SUMMARY:Christmas Day (Hungría)
END:VEVENT
END:VCALENDAR