BEGIN:VCALENDAR
VERSION:2.0
PRODID:-//time.now/holidays//NONSGML v1.0//EN
BEGIN:VEVENT
UID:3a40bdd6-7f09-4bc6-84ee-18eedafe9c23
DTSTAMP:20260422T211757Z
DTSTART;VALUE=DATE:20271227
SUMMARY:The first weekday after Christmas Day (observed) (Hong Kong)
END:VEVENT
END:VCALENDAR