BEGIN:VCALENDAR
VERSION:2.0
PRODID:-//time.now/holidays//NONSGML v1.0//EN
BEGIN:VEVENT
UID:f80bdd45-fc80-468c-a3c4-888d337af86a
DTSTAMP:20260420T214454Z
DTSTART;VALUE=DATE:20260101
SUMMARY:New Year's Day (Hong Kong)
END:VEVENT
END:VCALENDAR