BEGIN:VCALENDAR
VERSION:2.0
PRODID:-//time.now/holidays//NONSGML v1.0//EN
BEGIN:VEVENT
UID:4995e716-1363-4c24-a58a-ffb764fb71b4
DTSTAMP:20260420T072453Z
DTSTART;VALUE=DATE:20280414
SUMMARY:Good Friday (Hong Kong)
END:VEVENT
END:VCALENDAR