BEGIN:VCALENDAR
VERSION:2.0
PRODID:-//time.now/holidays//NONSGML v1.0//EN
BEGIN:VEVENT
UID:301a40e6-d1e4-4348-ae06-c58fdee3866a
DTSTAMP:20260420T062842Z
DTSTART;VALUE=DATE:20260501
SUMMARY:Labor Day (Honduras)
END:VEVENT
END:VCALENDAR