BEGIN:VCALENDAR
VERSION:2.0
PRODID:-//time.now/holidays//NONSGML v1.0//EN
BEGIN:VEVENT
UID:34e84cc1-abf8-4935-b63b-286fac246478
DTSTAMP:20260422T035304Z
DTSTART;VALUE=DATE:20260518
SUMMARY:Flag Day and University Day (Haití)
END:VEVENT
END:VCALENDAR