BEGIN:VCALENDAR
VERSION:2.0
PRODID:-//time.now/holidays//NONSGML v1.0//EN
BEGIN:VEVENT
UID:cee3269c-6ea8-4eee-9b49-d6a848ee0e82
DTSTAMP:20260420T035137Z
DTSTART;VALUE=DATE:20260223
SUMMARY:Republic Day (Guyana)
END:VEVENT
END:VCALENDAR