BEGIN:VCALENDAR
VERSION:2.0
PRODID:-//time.now/holidays//NONSGML v1.0//EN
BEGIN:VEVENT
UID:17c03c05-b55d-4781-99cb-79e052139ae0
DTSTAMP:20260420T152340Z
DTSTART;VALUE=DATE:20221010
SUMMARY:Prophet's Birthday (observed) (Guyana)
END:VEVENT
END:VCALENDAR