BEGIN:VCALENDAR
VERSION:2.0
PRODID:-//time.now/holidays//NONSGML v1.0//EN
BEGIN:VEVENT
UID:71e1e636-fb4e-43b8-bee2-c3e44862c417
DTSTAMP:20260420T162658Z
DTSTART;VALUE=DATE:20260825
SUMMARY:Prophet's Birthday (estimated) (Guyana)
END:VEVENT
END:VCALENDAR