BEGIN:VCALENDAR
VERSION:2.0
PRODID:-//time.now/holidays//NONSGML v1.0//EN
BEGIN:VEVENT
UID:3359a331-7ca6-4cb2-b056-821a30ca3866
DTSTAMP:20260420T023644Z
DTSTART;VALUE=DATE:20260501
SUMMARY:Labor Day (Guyana)
END:VEVENT
END:VCALENDAR