BEGIN:VCALENDAR
VERSION:2.0
PRODID:-//time.now/holidays//NONSGML v1.0//EN
BEGIN:VEVENT
UID:ca51a254-0c57-40d8-9fb9-f7085e719e55
DTSTAMP:20260420T034640Z
DTSTART;VALUE=DATE:20260526
SUMMARY:Independence Day (Guyana)
END:VEVENT
END:VCALENDAR