BEGIN:VCALENDAR
VERSION:2.0
PRODID:-//time.now/holidays//NONSGML v1.0//EN
BEGIN:VEVENT
UID:f1093c56-6b3c-4cc9-8e96-5a46cea0c605
DTSTAMP:20260420T062418Z
DTSTART;VALUE=DATE:20310310
SUMMARY:Holi (observed) (Guyana)
END:VEVENT
END:VCALENDAR