BEGIN:VCALENDAR
VERSION:2.0
PRODID:-//time.now/holidays//NONSGML v1.0//EN
BEGIN:VEVENT
UID:e60fdaf5-4604-455e-9d46-d2e36ec652fc
DTSTAMP:20260420T091803Z
DTSTART;VALUE=DATE:20250607
SUMMARY:Eid al-Adha (Guinea)
END:VEVENT
END:VCALENDAR