BEGIN:VCALENDAR
VERSION:2.0
PRODID:-//time.now/holidays//NONSGML v1.0//EN
BEGIN:VEVENT
UID:bc121f8a-7c20-41b3-a881-a85aded732f4
DTSTAMP:20260420T095104Z
DTSTART;VALUE=DATE:20261225
SUMMARY:Christmas Day (Guinea)
END:VEVENT
END:VCALENDAR