BEGIN:VCALENDAR
VERSION:2.0
PRODID:-//time.now/holidays//NONSGML v1.0//EN
BEGIN:VEVENT
UID:37d83110-cb6c-46d3-aed6-b6e2fdb6585c
DTSTAMP:20260420T183911Z
DTSTART;VALUE=DATE:20260525
SUMMARY:Spring Bank Holiday (Guernsey)
END:VEVENT
END:VCALENDAR