BEGIN:VCALENDAR
VERSION:2.0
PRODID:-//time.now/holidays//NONSGML v1.0//EN
BEGIN:VEVENT
UID:f6888f93-7af9-43ce-954d-4aca61c9e6cf
DTSTAMP:20260422T223819Z
DTSTART;VALUE=DATE:20280103
SUMMARY:New Year's Day (substitute day) (Guernsey)
END:VEVENT
END:VCALENDAR