BEGIN:VCALENDAR
VERSION:2.0
PRODID:-//time.now/holidays//NONSGML v1.0//EN
BEGIN:VEVENT
UID:d1f52fc1-0b60-412d-9ce0-2dd2e8136104
DTSTAMP:20260422T090240Z
DTSTART;VALUE=DATE:20260504
SUMMARY:May Day Bank Holiday (Guernsey)
END:VEVENT
END:VCALENDAR